BEGIN:VCALENDAR
VERSION:2.0
PRODID:-//AICEC ADICAE - ECPv6.15.20//NONSGML v1.0//EN
CALSCALE:GREGORIAN
METHOD:PUBLISH
X-WR-CALNAME:AICEC ADICAE
X-ORIGINAL-URL:https://aicec-adicae.es
X-WR-CALDESC:Eventos para AICEC ADICAE
REFRESH-INTERVAL;VALUE=DURATION:PT1H
X-Robots-Tag:noindex
X-PUBLISHED-TTL:PT1H
BEGIN:VTIMEZONE
TZID:Europe/Madrid
BEGIN:DAYLIGHT
TZOFFSETFROM:+0100
TZOFFSETTO:+0200
TZNAME:CEST
DTSTART:20230326T010000
END:DAYLIGHT
BEGIN:STANDARD
TZOFFSETFROM:+0200
TZOFFSETTO:+0100
TZNAME:CET
DTSTART:20231029T010000
END:STANDARD
BEGIN:DAYLIGHT
TZOFFSETFROM:+0100
TZOFFSETTO:+0200
TZNAME:CEST
DTSTART:20240331T010000
END:DAYLIGHT
BEGIN:STANDARD
TZOFFSETFROM:+0200
TZOFFSETTO:+0100
TZNAME:CET
DTSTART:20241027T010000
END:STANDARD
BEGIN:DAYLIGHT
TZOFFSETFROM:+0100
TZOFFSETTO:+0200
TZNAME:CEST
DTSTART:20250330T010000
END:DAYLIGHT
BEGIN:STANDARD
TZOFFSETFROM:+0200
TZOFFSETTO:+0100
TZNAME:CET
DTSTART:20251026T010000
END:STANDARD
END:VTIMEZONE
BEGIN:VEVENT
DTSTART;TZID=Europe/Madrid:20241121T180000
DTEND;TZID=Europe/Madrid:20241121T200000
DTSTAMP:20260421T163908
CREATED:20241108T095824Z
LAST-MODIFIED:20241108T100213Z
UID:1084-1732212000-1732219200@aicec-adicae.es
SUMMARY:Contractació a distància E-commerce
DESCRIPTION:T’has preguntat quins drets tens com a consumidor quan compres o contractes serveis en línia? I si realment coneixes les alternatives de pagament que t’ofereixen més protecció quan fas transaccions per internet? \nAmb l’expansió del comerç en línia\, és fonamental que els consumidors estiguin informats sobre els drets que els emparen i les pràctiques més segures per fer compres digitals. Quan adquireixes productes en línia\, tens dret a desistir\, que et permet retornar el producte dins d’un termini establert\, i la protecció de les teves dades personals. Aquests drets estan pensats per assegurar que l’experiència de compra sigui confiable i justa per a tothom. \nUn altre aspecte clau és la selecció del mètode de pagament. Hi ha diverses opcions\, però no totes garanteixen el mateix nivell de seguretat. Les targetes de crèdit\, per exemple\, sovint ofereixen protecció addicional contra fraus\, mentre que plataformes com PayPal o Apple Pay utilitzen encriptació per augmentar la seguretat. \nSi vols aprendre més sobre aquests temes\, t’animem a participar en el nostre seminari en línia i presencial\, el pròxim dimecres 21 de novembre a les 18 h. Aquest taller pràctic et permetrà conèixer a fons els teus drets com a consumidor i explorar les diferents formes de pagament en el comerç electrònic. \nAmb la nostra ajuda\, podràs identificar les opcions de pagament més segures i adquirir criteris per evitar fraus i situacions de risc quan facis compres per internet.
URL:https://aicec-adicae.es/actividad/contratacio-ecommerce/
LOCATION:via de l’imeri romà\, Via de l'Imperi Romà\, 11\, 43003 Tarragona\, Tarragona\, Tarragona\, 43003
CATEGORIES:E-commerce
ATTACH;FMTTYPE=image/png:https://aicec-adicae.es/wp-content/uploads/2024/11/Descobreix-els-teus-drets-com-a-consumidor-en-lera-digital-4.png
END:VEVENT
END:VCALENDAR